BEGIN:VCALENDAR
PRODID:-//MatrixMaxx//RemoteApi//EN
VERSION:2.0
METHOD:PUBLISH
CALSCALE:GREGORIAN
X-ORIGINAL-URL:http://www.acla.com/forms/meeting/Microsite/Annual_Meeting_2019
BEGIN:VEVENT
SUMMARY:Annual Meeting 2018
LAST-MODIFIED:20180306T133000Z
UID:ci_890100000246@matrixgroup.net
CLASS:PUBLIC
CREATED:20180306T133000Z
DTSTAMP:20180306T133000Z
DTSTART:20180306T133000Z
X-FUNAMBOL-ALLDAY:1
LOCATION:Grand+Hyatt+Washington
DESCRIPTION:For full info see http://www.acla.com/forms/meeting/Microsite/Annual_Meeting_2019\n
DTEND:20180306T220000Z
URL:http://www.acla.com/forms/meeting/Microsite/Annual_Meeting_2019
END:VEVENT
END:VCALENDAR